BEGIN:VCALENDAR
VERSION:2.0
PRODID:spatie/icalendar-generator
DESCRIPTION:Events from East Lothian Coop Bowling Club
X-WR-CALDESC:Events from East Lothian Coop Bowling Club
REFRESH-INTERVAL;VALUE=DURATION:PT1440M
X-PUBLISHED-TTL:PT1440M
BEGIN:VTIMEZONE
TZID:UTC
BEGIN:STANDARD
DTSTART:20250725T080959Z
TZOFFSETFROM:+0000
TZOFFSETTO:+0000
END:STANDARD
END:VTIMEZONE
BEGIN:VEVENT
UID:101-19
DTSTAMP:20260421T080959Z
SUMMARY:Speed Quizzing
LOCATION:
ORGANIZER;CN=eastlothiancoopbowlingclub:MAILTO:elcoopbc@aol.com
RRULE:FREQ=WEEKLY;UNTIL=20320302T000000Z
DTSTART:20260428T193000Z
DTEND:20260428T213000Z
X-ALT-DESC;FMTTYPE=TEXT/HTML: Get Ready for Premier SpeedQuizzing in Trane
 nt!   The ULTIMATE fast-paced quiz night is launching at East Lothian Co
 operative Bowling Club!  Starting Tuesday\, March 4th\, 2025 |  7:30 PM
  – 9:30 PM  Think fast\, play smart\, and dominate the leaderboard! Thi
 s high-energy\, modern quiz experience is packed with:  Rapid-fire rounds
  – No waiting\, just action!  Interactive twists&amp;hellip\;
CATEGORIES:General
URL;VALUE=URI:https://elcoopbowlingclub.co.uk/mc-events/speed-quizzing/?mc_
 id=101
METHOD:PUBLISH
END:VEVENT
END:VCALENDAR