BEGIN:VCALENDAR
VERSION:2.0
PRODID:spatie/icalendar-generator
DESCRIPTION:Events from East Lothian Coop Bowling Club
X-WR-CALDESC:Events from East Lothian Coop Bowling Club
REFRESH-INTERVAL;VALUE=DURATION:PT1440M
X-PUBLISHED-TTL:PT1440M
BEGIN:VTIMEZONE
TZID:UTC
BEGIN:STANDARD
DTSTART:20250725T103346Z
TZOFFSETFROM:+0000
TZOFFSETTO:+0000
END:STANDARD
END:VTIMEZONE
BEGIN:VEVENT
UID:1135-26
DTSTAMP:20260421T103346Z
SUMMARY:Bingo
LOCATION:
ORGANIZER;CN=eastlothiancoopbowlingclub:MAILTO:elcoopbc@aol.com
RRULE:FREQ=WEEKLY;UNTIL=20330319T000000Z
DTSTART:20260425T193000Z
DTEND:20260425T204500Z
X-ALT-DESC;FMTTYPE=TEXT/HTML:
CATEGORIES:General
URL;VALUE=URI:https://elcoopbowlingclub.co.uk/mc-events/bingo-2/?mc_id=1135
METHOD:PUBLISH
END:VEVENT
END:VCALENDAR